BEGIN:VCALENDAR
VERSION:2.0
PRODID: Ultiorganizer


BEGIN:VEVENT
SUMMARY:Mamba-Halal
DESCRIPTION:Master Mixed: Crossover
LOCATION:  8
DTSTART;TZID=America/Santo_Domingo:20251204T090000
DURATION: P120M
GEO:;
END:VEVENT

BEGIN:VEVENT
SUMMARY:Candela-Elder
DESCRIPTION:Master Mixed: Crossover
LOCATION:  9
DTSTART;TZID=America/Santo_Domingo:20251204T090000
DURATION: P120M
GEO:;
END:VEVENT

END:VCALENDAR
