BEGIN:VCALENDAR
VERSION:2.0
PRODID: Ultiorganizer


BEGIN:VEVENT
SUMMARY:Macana-Soul Lyons
DESCRIPTION:Women's: Pool A
LOCATION:  4
DTSTART;TZID=America/Santo_Domingo:20251202T090000
DURATION: P120M
GEO:;
END:VEVENT

BEGIN:VEVENT
SUMMARY:ClubM - Momentum-Venado Azul
DESCRIPTION:Women's: Pool A
LOCATION:  5
DTSTART;TZID=America/Santo_Domingo:20251202T090000
DURATION: P120M
GEO:;
END:VEVENT

BEGIN:VEVENT
SUMMARY:Salty-Cóndor Ultimate Women's
DESCRIPTION:Women's: Pool A
LOCATION:  6
DTSTART;TZID=America/Santo_Domingo:20251202T090000
DURATION: P120M
GEO:;
END:VEVENT

BEGIN:VEVENT
SUMMARY:Macana-Venado Azul
DESCRIPTION:Women's: Pool A
LOCATION:  4
DTSTART;TZID=America/Santo_Domingo:20251202T113000
DURATION: P120M
GEO:;
END:VEVENT

BEGIN:VEVENT
SUMMARY:Soul Lyons-Cóndor Ultimate Women's
DESCRIPTION:Women's: Pool A
LOCATION:  5
DTSTART;TZID=America/Santo_Domingo:20251202T113000
DURATION: P120M
GEO:;
END:VEVENT

BEGIN:VEVENT
SUMMARY:Salty-ClubM - Momentum
DESCRIPTION:Women's: Pool A
LOCATION:  6
DTSTART;TZID=America/Santo_Domingo:20251202T113000
DURATION: P120M
GEO:;
END:VEVENT

BEGIN:VEVENT
SUMMARY:Macana-Salty
DESCRIPTION:Women's: Pool A
LOCATION:  14
DTSTART;TZID=America/Santo_Domingo:20251203T134000
DURATION: P120M
GEO:;
END:VEVENT

BEGIN:VEVENT
SUMMARY:ClubM - Momentum-Cóndor Ultimate Women's
DESCRIPTION:Women's: Pool A
LOCATION:  15
DTSTART;TZID=America/Santo_Domingo:20251203T134000
DURATION: P120M
GEO:;
END:VEVENT

BEGIN:VEVENT
SUMMARY:Soul Lyons-Venado Azul
DESCRIPTION:Women's: Pool A
LOCATION:  16
DTSTART;TZID=America/Santo_Domingo:20251203T134000
DURATION: P120M
GEO:;
END:VEVENT

BEGIN:VEVENT
SUMMARY:Macana-Cóndor Ultimate Women's
DESCRIPTION:Women's: Pool A
LOCATION:  14
DTSTART;TZID=America/Santo_Domingo:20251203T161000
DURATION: P120M
GEO:;
END:VEVENT

BEGIN:VEVENT
SUMMARY:Salty-Venado Azul
DESCRIPTION:Women's: Pool A
LOCATION:  15
DTSTART;TZID=America/Santo_Domingo:20251203T161000
DURATION: P120M
GEO:;
END:VEVENT

BEGIN:VEVENT
SUMMARY:ClubM - Momentum-Soul Lyons
DESCRIPTION:Women's: Pool A
LOCATION:  16
DTSTART;TZID=America/Santo_Domingo:20251203T161000
DURATION: P120M
GEO:;
END:VEVENT

BEGIN:VEVENT
SUMMARY:Macana-ClubM - Momentum
DESCRIPTION:Women's: Pool A
LOCATION:  11
DTSTART;TZID=America/Santo_Domingo:20251204T134000
DURATION: P120M
GEO:;
END:VEVENT

BEGIN:VEVENT
SUMMARY:Salty-Soul Lyons
DESCRIPTION:Women's: Pool A
LOCATION:  12
DTSTART;TZID=America/Santo_Domingo:20251204T134000
DURATION: P120M
GEO:;
END:VEVENT

BEGIN:VEVENT
SUMMARY:Venado Azul-Cóndor Ultimate Women's
DESCRIPTION:Women's: Pool A
LOCATION:  13
DTSTART;TZID=America/Santo_Domingo:20251204T134000
DURATION: P120M
GEO:;
END:VEVENT

END:VCALENDAR
