BEGIN:VCALENDAR
VERSION:2.0
PRODID: Ultiorganizer


BEGIN:VEVENT
SUMMARY:Hammers Ultimate Buenos Aires-Harfang
DESCRIPTION:Mixed: Pool D
LOCATION:  6
DTSTART;TZID=America/Santo_Domingo:20251202T134000
DURATION: P120M
GEO:;
END:VEVENT

BEGIN:VEVENT
SUMMARY:Hammers Ultimate Buenos Aires-Cajamarca
DESCRIPTION:Mixed: Pool D
LOCATION:  6
DTSTART;TZID=America/Santo_Domingo:20251202T161000
DURATION: P120M
GEO:;
END:VEVENT

BEGIN:VEVENT
SUMMARY:Hammers Ultimate Buenos Aires-Meclaó
DESCRIPTION:Mixed: Pool D
LOCATION:  3
DTSTART;TZID=America/Santo_Domingo:20251203T090000
DURATION: P120M
GEO:;
END:VEVENT

BEGIN:VEVENT
SUMMARY:Mile High Trash-Hammers Ultimate Buenos Aires
DESCRIPTION:Mixed: Playoff (1-16)
LOCATION:  1
DTSTART;TZID=America/Santo_Domingo:20251203T141000
DURATION: P120M
GEO:;
END:VEVENT

BEGIN:VEVENT
SUMMARY:Hammers Ultimate Buenos Aires-Saltacima
DESCRIPTION:Mixed: Playoff (1-16) Quarterfinals
LOCATION:  11
DTSTART;TZID=America/Santo_Domingo:20251204T090000
DURATION: P120M
GEO:;
END:VEVENT

BEGIN:VEVENT
SUMMARY:Hammers Ultimate Buenos Aires-Aloha
DESCRIPTION:Mixed: Playoff (1-16) Semifinals
LOCATION:  13
DTSTART;TZID=America/Santo_Domingo:20251204T113000
DURATION: P120M
GEO:;
END:VEVENT

BEGIN:VEVENT
SUMMARY:Hammers Ultimate Buenos Aires-Malaki UFC
DESCRIPTION:Mixed: Playoff (1-16) Finals
LOCATION:  12
DTSTART;TZID=America/Santo_Domingo:20251205T090000
DURATION: P120M
GEO:;
END:VEVENT

END:VCALENDAR
