BEGIN:VCALENDAR
VERSION:2.0
PRODID: Ultiorganizer


BEGIN:VEVENT
SUMMARY:tobe!-Saltacima
DESCRIPTION:Mixed: Pool C
LOCATION:  4
DTSTART;TZID=America/Santo_Domingo:20251202T134000
DURATION: P120M
GEO:;
END:VEVENT

BEGIN:VEVENT
SUMMARY:tobe!-Malaki UFC
DESCRIPTION:Mixed: Pool C
LOCATION:  4
DTSTART;TZID=America/Santo_Domingo:20251202T161000
DURATION: P120M
GEO:;
END:VEVENT

BEGIN:VEVENT
SUMMARY:tobe!-Clovers Ultimate
DESCRIPTION:Mixed: Pool C
LOCATION:  1
DTSTART;TZID=America/Santo_Domingo:20251203T090000
DURATION: P120M
GEO:;
END:VEVENT

BEGIN:VEVENT
SUMMARY:tobe!-Voltaje
DESCRIPTION:Mixed: Playoff (1-16)
LOCATION:  3
DTSTART;TZID=America/Santo_Domingo:20251203T141000
DURATION: P120M
GEO:;
END:VEVENT

BEGIN:VEVENT
SUMMARY:tobe!-Harfang
DESCRIPTION:Mixed: Playoff (1-16) Quarterfinals
LOCATION:  3
DTSTART;TZID=America/Santo_Domingo:20251204T134000
DURATION: P120M
GEO:;
END:VEVENT

BEGIN:VEVENT
SUMMARY:Lawless-tobe!
DESCRIPTION:Mixed: Playoff (1-16) Semifinals
LOCATION:  4
DTSTART;TZID=America/Santo_Domingo:20251205T134000
DURATION: P120M
GEO:;
END:VEVENT

BEGIN:VEVENT
SUMMARY:Mile High Trash-tobe!
DESCRIPTION:Mixed: Playoff (1-16) Finals
LOCATION:  4
DTSTART;TZID=America/Santo_Domingo:20251206T153000
DURATION: P120M
GEO:;
END:VEVENT

END:VCALENDAR
