BEGIN:VCALENDAR
VERSION:2.0
PRODID: Ultiorganizer


BEGIN:VEVENT
SUMMARY:Mile High Trash-Quest
DESCRIPTION:Mixed: Pool A
LOCATION:  11
DTSTART;TZID=America/Santo_Domingo:20251202T090000
DURATION: P120M
GEO:;
END:VEVENT

BEGIN:VEVENT
SUMMARY:Quest-Charrúa
DESCRIPTION:Mixed: Pool A
LOCATION:  12
DTSTART;TZID=America/Santo_Domingo:20251202T113000
DURATION: P120M
GEO:;
END:VEVENT

BEGIN:VEVENT
SUMMARY:Aloha-Quest
DESCRIPTION:Mixed: Pool A
LOCATION:  2
DTSTART;TZID=America/Santo_Domingo:20251203T113000
DURATION: P120M
GEO:;
END:VEVENT

BEGIN:VEVENT
SUMMARY:Quest-Cajamarca
DESCRIPTION:Mixed: Playoff (1-16)
LOCATION:  1
DTSTART;TZID=America/Santo_Domingo:20251203T161000
DURATION: P120M
GEO:;
END:VEVENT

BEGIN:VEVENT
SUMMARY:Lawless-Quest
DESCRIPTION:Mixed: Playoff (1-16) Quarterfinals
LOCATION:  2
DTSTART;TZID=America/Santo_Domingo:20251204T134000
DURATION: P120M
GEO:;
END:VEVENT

BEGIN:VEVENT
SUMMARY:Quest-Harfang
DESCRIPTION:Mixed: Playoff (1-16) Semifinals
LOCATION:  2
DTSTART;TZID=America/Santo_Domingo:20251204T161000
DURATION: P120M
GEO:;
END:VEVENT

BEGIN:VEVENT
SUMMARY:Kalagend-Quest
DESCRIPTION:Mixed: Playoff (1-16) Finals
LOCATION:  2
DTSTART;TZID=America/Santo_Domingo:20251205T161000
DURATION: P120M
GEO:;
END:VEVENT

END:VCALENDAR
