BEGIN:VCALENDAR
VERSION:2.0
PRODID: Ultiorganizer


BEGIN:VEVENT
SUMMARY:Dead Circus-Makawua
DESCRIPTION:Master Open: Pool A
LOCATION:  7
DTSTART;TZID=America/Santo_Domingo:20251202T090000
DURATION: P120M
GEO:;
END:VEVENT

BEGIN:VEVENT
SUMMARY:Dead Circus-AFC Carbon
DESCRIPTION:Master Open: Pool A
LOCATION:  7
DTSTART;TZID=America/Santo_Domingo:20251202T113000
DURATION: P120M
GEO:;
END:VEVENT

BEGIN:VEVENT
SUMMARY:Dead Circus-DominO
DESCRIPTION:Master Open: Pool A
LOCATION:  5
DTSTART;TZID=America/Santo_Domingo:20251203T090000
DURATION: P120M
GEO:;
END:VEVENT

BEGIN:VEVENT
SUMMARY:Dead Circus-NSOM
DESCRIPTION:Master Open: Pool A
LOCATION:  5
DTSTART;TZID=America/Santo_Domingo:20251203T113000
DURATION: P120M
GEO:;
END:VEVENT

BEGIN:VEVENT
SUMMARY:Dead Circus-Gravy Train
DESCRIPTION:Master Open: Pool A
LOCATION:  5
DTSTART;TZID=America/Santo_Domingo:20251204T134000
DURATION: P120M
GEO:;
END:VEVENT

BEGIN:VEVENT
SUMMARY:Dead Circus-Surly
DESCRIPTION:Master Open: Pool A
LOCATION:  5
DTSTART;TZID=America/Santo_Domingo:20251204T161000
DURATION: P120M
GEO:;
END:VEVENT

BEGIN:VEVENT
SUMMARY:Dead Circus-ORB
DESCRIPTION:Master Open: Pool A
LOCATION:  7
DTSTART;TZID=America/Santo_Domingo:20251205T113000
DURATION: P120M
GEO:;
END:VEVENT

BEGIN:VEVENT
SUMMARY:Surly-Dead Circus
DESCRIPTION:Master Open: Playoff (1-4)
LOCATION:  7
DTSTART;TZID=America/Santo_Domingo:20251205T140000
DURATION: P120M
GEO:;
END:VEVENT

BEGIN:VEVENT
SUMMARY:Dead Circus-AFC Carbon
DESCRIPTION:Master Open: Playoff (1-4) Finals
LOCATION:  7
DTSTART;TZID=America/Santo_Domingo:20251206T093000
DURATION: P120M
GEO:;
END:VEVENT

END:VCALENDAR
