BEGIN:VCALENDAR
VERSION:2.0
PRODID: Ultiorganizer


BEGIN:VEVENT
SUMMARY:Qold-Dinner At 4
DESCRIPTION:Master Mixed: Pool B
LOCATION:  18
DTSTART;TZID=America/Santo_Domingo:20251202T113000
DURATION: P120M
GEO:;
END:VEVENT

BEGIN:VEVENT
SUMMARY:Qold-Candela
DESCRIPTION:Master Mixed: Pool B
LOCATION:  16
DTSTART;TZID=America/Santo_Domingo:20251202T134000
DURATION: P120M
GEO:;
END:VEVENT

BEGIN:VEVENT
SUMMARY:Qold-Voltaje
DESCRIPTION:Master Mixed: Pool B
LOCATION:  9
DTSTART;TZID=America/Santo_Domingo:20251203T113000
DURATION: P120M
GEO:;
END:VEVENT

BEGIN:VEVENT
SUMMARY:Qold-Halal
DESCRIPTION:Master Mixed: Pool B
LOCATION:  9
DTSTART;TZID=America/Santo_Domingo:20251203T140000
DURATION: P120M
GEO:;
END:VEVENT

BEGIN:VEVENT
SUMMARY:Qold-Mamba
DESCRIPTION:Master Mixed: Playoff (1-8)
LOCATION:  8
DTSTART;TZID=America/Santo_Domingo:20251204T113000
DURATION: P120M
GEO:;
END:VEVENT

BEGIN:VEVENT
SUMMARY:Dinner At 4-Qold
DESCRIPTION:Master Mixed: Playoff (1-8) Semifinals
LOCATION:  12
DTSTART;TZID=America/Santo_Domingo:20251205T134000
DURATION: P120M
GEO:;
END:VEVENT

BEGIN:VEVENT
SUMMARY:Brunch Club-Qold
DESCRIPTION:Master Mixed: Playoff (1-8) Finals
LOCATION:  4
DTSTART;TZID=America/Santo_Domingo:20251206T093000
DURATION: P120M
GEO:;
END:VEVENT

END:VCALENDAR
