BEGIN:VCALENDAR
VERSION:2.0
PRODID: Ultiorganizer


BEGIN:VEVENT
SUMMARY:Brunch Club-Cranky
DESCRIPTION:Master Mixed: Pool A
LOCATION:  9
DTSTART;TZID=America/Santo_Domingo:20251202T113000
DURATION: P120M
GEO:;
END:VEVENT

BEGIN:VEVENT
SUMMARY:Cranky-Elder
DESCRIPTION:Master Mixed: Pool A
LOCATION:  8
DTSTART;TZID=America/Santo_Domingo:20251202T161000
DURATION: P120M
GEO:;
END:VEVENT

BEGIN:VEVENT
SUMMARY:Cranky-Ysanga
DESCRIPTION:Master Mixed: Pool A
LOCATION:  5
DTSTART;TZID=America/Santo_Domingo:20251203T134000
DURATION: P120M
GEO:;
END:VEVENT

BEGIN:VEVENT
SUMMARY:Cranky-Mamba
DESCRIPTION:Master Mixed: Pool A
LOCATION:  5
DTSTART;TZID=America/Santo_Domingo:20251203T161000
DURATION: P120M
GEO:;
END:VEVENT

BEGIN:VEVENT
SUMMARY:Cranky-Dinner At 4
DESCRIPTION:Master Mixed: Playoff (1-8)
LOCATION:  7
DTSTART;TZID=America/Santo_Domingo:20251204T113000
DURATION: P120M
GEO:;
END:VEVENT

BEGIN:VEVENT
SUMMARY:Cranky-Mamba
DESCRIPTION:Master Mixed: Playoff (1-8) Semifinals
LOCATION:  14
DTSTART;TZID=America/Santo_Domingo:20251205T134000
DURATION: P120M
GEO:;
END:VEVENT

BEGIN:VEVENT
SUMMARY:Ysanga-Cranky
DESCRIPTION:Master Mixed: Playoff (1-8) Finals
LOCATION:  13
DTSTART;TZID=America/Santo_Domingo:20251205T161000
DURATION: P120M
GEO:;
END:VEVENT

END:VCALENDAR
