BEGIN:VCALENDAR
VERSION:2.0
PRODID: Ultiorganizer


BEGIN:VEVENT
SUMMARY:Malaki UFC-Clovers Ultimate
DESCRIPTION:Mixed: Pool C
LOCATION:  5
DTSTART;TZID=America/Santo_Domingo:20251202T134000
DURATION: P120M
GEO:;
END:VEVENT

BEGIN:VEVENT
SUMMARY:Saltacima-Clovers Ultimate
DESCRIPTION:Mixed: Pool C
LOCATION:  5
DTSTART;TZID=America/Santo_Domingo:20251202T161000
DURATION: P120M
GEO:;
END:VEVENT

BEGIN:VEVENT
SUMMARY:tobe!-Clovers Ultimate
DESCRIPTION:Mixed: Pool C
LOCATION:  1
DTSTART;TZID=America/Santo_Domingo:20251203T090000
DURATION: P120M
GEO:;
END:VEVENT

BEGIN:VEVENT
SUMMARY:Clovers Ultimate-Royals
DESCRIPTION:Mixed: Playoff (1-16)
LOCATION:  3
DTSTART;TZID=America/Santo_Domingo:20251203T161000
DURATION: P120M
GEO:;
END:VEVENT

BEGIN:VEVENT
SUMMARY:Aloha-Clovers Ultimate
DESCRIPTION:Mixed: Playoff (1-16) Quarterfinals
LOCATION:  14
DTSTART;TZID=America/Santo_Domingo:20251204T090000
DURATION: P120M
GEO:;
END:VEVENT

BEGIN:VEVENT
SUMMARY:Saltacima-Clovers Ultimate
DESCRIPTION:Mixed: Playoff (1-16) Semifinals
LOCATION:  11
DTSTART;TZID=America/Santo_Domingo:20251204T113000
DURATION: P120M
GEO:;
END:VEVENT

BEGIN:VEVENT
SUMMARY:Clovers Ultimate-Cajamarca
DESCRIPTION:Mixed: Playoff (1-16) Finals
LOCATION:  11
DTSTART;TZID=America/Santo_Domingo:20251205T113000
DURATION: P120M
GEO:;
END:VEVENT

END:VCALENDAR
