BEGIN:VCALENDAR
VERSION:2.0
PRODID: Ultiorganizer


BEGIN:VEVENT
SUMMARY:Mamoots-Esparta
DESCRIPTION:Open: Pool B
LOCATION:  3
DTSTART;TZID=America/Santo_Domingo:20251202T134000
DURATION: P120M
GEO:;
END:VEVENT

BEGIN:VEVENT
SUMMARY:Mamoots-Halifax Red Circus
DESCRIPTION:Open: Pool B
LOCATION:  3
DTSTART;TZID=America/Santo_Domingo:20251202T161000
DURATION: P120M
GEO:;
END:VEVENT

BEGIN:VEVENT
SUMMARY:Evolution-Mamoots
DESCRIPTION:Open: Pool B
LOCATION:  11
DTSTART;TZID=America/Santo_Domingo:20251203T090000
DURATION: P120M
GEO:;
END:VEVENT

BEGIN:VEVENT
SUMMARY:Mamoots-Ushh Mafia
DESCRIPTION:Open: Pool B
LOCATION:  12
DTSTART;TZID=America/Santo_Domingo:20251203T113000
DURATION: P120M
GEO:;
END:VEVENT

BEGIN:VEVENT
SUMMARY:Mamoots-ClubM - Manic
DESCRIPTION:Open: Pool B
LOCATION:  2
DTSTART;TZID=America/Santo_Domingo:20251204T090000
DURATION: P120M
GEO:;
END:VEVENT

BEGIN:VEVENT
SUMMARY:Ottawa Phoenix-Mamoots
DESCRIPTION:Open: Playoff (1-8)
LOCATION:  2
DTSTART;TZID=America/Santo_Domingo:20251204T113000
DURATION: P120M
GEO:;
END:VEVENT

BEGIN:VEVENT
SUMMARY:Mamoots-Houndd
DESCRIPTION:Open: Playoff (1-8) Semifinals
LOCATION:  15
DTSTART;TZID=America/Santo_Domingo:20251205T090000
DURATION: P120M
GEO:;
END:VEVENT

BEGIN:VEVENT
SUMMARY:Warao Ultimate Open-Mamoots
DESCRIPTION:Open: Playoff (1-8) Finals
LOCATION:  14
DTSTART;TZID=America/Santo_Domingo:20251205T112000
DURATION: P120M
GEO:;
END:VEVENT

END:VCALENDAR
