BEGIN:VCALENDAR
VERSION:2.0
PRODID: Ultiorganizer


BEGIN:VEVENT
SUMMARY:Halifax Red Circus-Ushh Mafia
DESCRIPTION:Open: Pool B
LOCATION:  2
DTSTART;TZID=America/Santo_Domingo:20251202T134000
DURATION: P120M
GEO:;
END:VEVENT

BEGIN:VEVENT
SUMMARY:Mamoots-Halifax Red Circus
DESCRIPTION:Open: Pool B
LOCATION:  3
DTSTART;TZID=America/Santo_Domingo:20251202T161000
DURATION: P120M
GEO:;
END:VEVENT

BEGIN:VEVENT
SUMMARY:Halifax Red Circus-Esparta
DESCRIPTION:Open: Pool B
LOCATION:  12
DTSTART;TZID=America/Santo_Domingo:20251203T090000
DURATION: P120M
GEO:;
END:VEVENT

BEGIN:VEVENT
SUMMARY:Halifax Red Circus-ClubM - Manic
DESCRIPTION:Open: Pool B
LOCATION:  13
DTSTART;TZID=America/Santo_Domingo:20251203T113000
DURATION: P120M
GEO:;
END:VEVENT

BEGIN:VEVENT
SUMMARY:Evolution-Halifax Red Circus
DESCRIPTION:Open: Pool B
LOCATION:  1
DTSTART;TZID=America/Santo_Domingo:20251204T090000
DURATION: P120M
GEO:;
END:VEVENT

BEGIN:VEVENT
SUMMARY:Halifax Red Circus-Houndd
DESCRIPTION:Open: Playoff (1-8)
LOCATION:  3
DTSTART;TZID=America/Santo_Domingo:20251204T113000
DURATION: P120M
GEO:;
END:VEVENT

BEGIN:VEVENT
SUMMARY:Ottawa Phoenix-Halifax Red Circus
DESCRIPTION:Open: Playoff (1-8) Semifinals
LOCATION:  2
DTSTART;TZID=America/Santo_Domingo:20251205T134000
DURATION: P120M
GEO:;
END:VEVENT

BEGIN:VEVENT
SUMMARY:Evolution-Halifax Red Circus
DESCRIPTION:Open: Playoff (1-8) Finals
LOCATION:  1
DTSTART;TZID=America/Santo_Domingo:20251205T161000
DURATION: P120M
GEO:;
END:VEVENT

END:VCALENDAR
