BEGIN:VCALENDAR
VERSION:2.0
PRODID: Ultiorganizer


BEGIN:VEVENT
SUMMARY:Voltaje-Kalagend
DESCRIPTION:Mixed: Pool B
LOCATION:  14
DTSTART;TZID=America/Santo_Domingo:20251202T090000
DURATION: P120M
GEO:;
END:VEVENT

BEGIN:VEVENT
SUMMARY:Lawless-Voltaje
DESCRIPTION:Mixed: Pool B
LOCATION:  13
DTSTART;TZID=America/Santo_Domingo:20251202T113000
DURATION: P120M
GEO:;
END:VEVENT

BEGIN:VEVENT
SUMMARY:Voltaje-Royals
DESCRIPTION:Mixed: Pool B
LOCATION:  4
DTSTART;TZID=America/Santo_Domingo:20251203T113000
DURATION: P120M
GEO:;
END:VEVENT

BEGIN:VEVENT
SUMMARY:tobe!-Voltaje
DESCRIPTION:Mixed: Playoff (1-16)
LOCATION:  3
DTSTART;TZID=America/Santo_Domingo:20251203T141000
DURATION: P120M
GEO:;
END:VEVENT

BEGIN:VEVENT
SUMMARY:Voltaje-Charrúa
DESCRIPTION:Mixed: Playoff (1-16) Quarterfinals
LOCATION:  13
DTSTART;TZID=America/Santo_Domingo:20251204T090000
DURATION: P120M
GEO:;
END:VEVENT

BEGIN:VEVENT
SUMMARY:Cajamarca-Voltaje
DESCRIPTION:Mixed: Playoff (1-16) Semifinals
LOCATION:  12
DTSTART;TZID=America/Santo_Domingo:20251204T113000
DURATION: P120M
GEO:;
END:VEVENT

BEGIN:VEVENT
SUMMARY:Saltacima-Voltaje
DESCRIPTION:Mixed: Playoff (1-16) Finals
LOCATION:  11
DTSTART;TZID=America/Santo_Domingo:20251205T090000
DURATION: P120M
GEO:;
END:VEVENT

END:VCALENDAR
