BEGIN:VCALENDAR
VERSION:2.0
PRODID: Ultiorganizer


BEGIN:VEVENT
SUMMARY:Dead Circus-Makawua
DESCRIPTION:Master Open: Pool A
LOCATION:  7
DTSTART;TZID=America/Santo_Domingo:20251202T090000
DURATION: P120M
GEO:;
END:VEVENT

BEGIN:VEVENT
SUMMARY:DominO-Makawua
DESCRIPTION:Master Open: Pool A
LOCATION:  8
DTSTART;TZID=America/Santo_Domingo:20251202T113000
DURATION: P120M
GEO:;
END:VEVENT

BEGIN:VEVENT
SUMMARY:Gravy Train-Makawua
DESCRIPTION:Master Open: Pool A
LOCATION:  7
DTSTART;TZID=America/Santo_Domingo:20251203T090000
DURATION: P120M
GEO:;
END:VEVENT

BEGIN:VEVENT
SUMMARY:Makawua-ORB
DESCRIPTION:Master Open: Pool A
LOCATION:  8
DTSTART;TZID=America/Santo_Domingo:20251203T113000
DURATION: P120M
GEO:;
END:VEVENT

BEGIN:VEVENT
SUMMARY:AFC Carbon-Makawua
DESCRIPTION:Master Open: Pool A
LOCATION:  9
DTSTART;TZID=America/Santo_Domingo:20251204T134000
DURATION: P120M
GEO:;
END:VEVENT

BEGIN:VEVENT
SUMMARY:NSOM-Makawua
DESCRIPTION:Master Open: Pool A
LOCATION:  8
DTSTART;TZID=America/Santo_Domingo:20251204T161000
DURATION: P120M
GEO:;
END:VEVENT

BEGIN:VEVENT
SUMMARY:Surly-Makawua
DESCRIPTION:Master Open: Pool A
LOCATION:  8
DTSTART;TZID=America/Santo_Domingo:20251205T113000
DURATION: P120M
GEO:;
END:VEVENT

BEGIN:VEVENT
SUMMARY:Makawua-AFC Carbon
DESCRIPTION:Master Open: Playoff (1-4)
LOCATION:  8
DTSTART;TZID=America/Santo_Domingo:20251205T161000
DURATION: P120M
GEO:;
END:VEVENT

BEGIN:VEVENT
SUMMARY:Surly-Makawua
DESCRIPTION:Master Open: Playoff (1-4) Finals
LOCATION:  1
DTSTART;TZID=America/Santo_Domingo:20251206T100000
DURATION: P120M
GEO:;
END:VEVENT

END:VCALENDAR
