BEGIN:VCALENDAR
VERSION:2.0
PRODID: Ultiorganizer


BEGIN:VEVENT
SUMMARY:Voltaje-Halal
DESCRIPTION:Master Mixed: Pool B
LOCATION:  15
DTSTART;TZID=America/Santo_Domingo:20251202T134000
DURATION: P120M
GEO:;
END:VEVENT

BEGIN:VEVENT
SUMMARY:Halal-Candela
DESCRIPTION:Master Mixed: Pool B
LOCATION:  16
DTSTART;TZID=America/Santo_Domingo:20251202T161000
DURATION: P120M
GEO:;
END:VEVENT

BEGIN:VEVENT
SUMMARY:Qold-Halal
DESCRIPTION:Master Mixed: Pool B
LOCATION:  9
DTSTART;TZID=America/Santo_Domingo:20251203T140000
DURATION: P120M
GEO:;
END:VEVENT

BEGIN:VEVENT
SUMMARY:Dinner At 4-Halal
DESCRIPTION:Master Mixed: Pool B
LOCATION:  8
DTSTART;TZID=America/Santo_Domingo:20251203T161000
DURATION: P120M
GEO:;
END:VEVENT

BEGIN:VEVENT
SUMMARY:Mamba-Halal
DESCRIPTION:Master Mixed: Crossover
LOCATION:  8
DTSTART;TZID=America/Santo_Domingo:20251204T090000
DURATION: P120M
GEO:;
END:VEVENT

BEGIN:VEVENT
SUMMARY:Halal-Elder
DESCRIPTION:Master Mixed: Playoff (9-10)
LOCATION:  9
DTSTART;TZID=America/Santo_Domingo:20251205T113000
DURATION: P120M
GEO:;
END:VEVENT

END:VCALENDAR
