BEGIN:VCALENDAR
VERSION:2.0
PRODID: Ultiorganizer


BEGIN:VEVENT
SUMMARY:Cajamarca-Meclaó
DESCRIPTION:Mixed: Pool D
LOCATION:  7
DTSTART;TZID=America/Santo_Domingo:20251202T134000
DURATION: P120M
GEO:;
END:VEVENT

BEGIN:VEVENT
SUMMARY:Harfang-Meclaó
DESCRIPTION:Mixed: Pool D
LOCATION:  7
DTSTART;TZID=America/Santo_Domingo:20251202T161000
DURATION: P120M
GEO:;
END:VEVENT

BEGIN:VEVENT
SUMMARY:Hammers Ultimate Buenos Aires-Meclaó
DESCRIPTION:Mixed: Pool D
LOCATION:  3
DTSTART;TZID=America/Santo_Domingo:20251203T090000
DURATION: P120M
GEO:;
END:VEVENT

BEGIN:VEVENT
SUMMARY:Meclaó-Aloha
DESCRIPTION:Mixed: Playoff (1-16)
LOCATION:  4
DTSTART;TZID=America/Santo_Domingo:20251203T141000
DURATION: P120M
GEO:;
END:VEVENT

BEGIN:VEVENT
SUMMARY:Meclaó-Royals
DESCRIPTION:Mixed: Playoff (1-16) Quarterfinals
LOCATION:  4
DTSTART;TZID=America/Santo_Domingo:20251204T134000
DURATION: P120M
GEO:;
END:VEVENT

BEGIN:VEVENT
SUMMARY:Mile High Trash-Meclaó
DESCRIPTION:Mixed: Playoff (1-16) Semifinals
LOCATION:  3
DTSTART;TZID=America/Santo_Domingo:20251205T134000
DURATION: P120M
GEO:;
END:VEVENT

BEGIN:VEVENT
SUMMARY:Meclaó-Lawless
DESCRIPTION:Mixed: Playoff (1-16) Finals
LOCATION:  5
DTSTART;TZID=America/Santo_Domingo:20251205T161000
DURATION: P120M
GEO:;
END:VEVENT

END:VCALENDAR
