BEGIN:VCALENDAR
VERSION:2.0
PRODID: Ultiorganizer


BEGIN:VEVENT
SUMMARY:Surly-DominO
DESCRIPTION:Master Open: Pool A
LOCATION:  15
DTSTART;TZID=America/Santo_Domingo:20251202T090000
DURATION: P120M
GEO:;
END:VEVENT

BEGIN:VEVENT
SUMMARY:DominO-Makawua
DESCRIPTION:Master Open: Pool A
LOCATION:  8
DTSTART;TZID=America/Santo_Domingo:20251202T113000
DURATION: P120M
GEO:;
END:VEVENT

BEGIN:VEVENT
SUMMARY:Dead Circus-DominO
DESCRIPTION:Master Open: Pool A
LOCATION:  5
DTSTART;TZID=America/Santo_Domingo:20251203T090000
DURATION: P120M
GEO:;
END:VEVENT

BEGIN:VEVENT
SUMMARY:Gravy Train-DominO
DESCRIPTION:Master Open: Pool A
LOCATION:  6
DTSTART;TZID=America/Santo_Domingo:20251203T113000
DURATION: P120M
GEO:;
END:VEVENT

BEGIN:VEVENT
SUMMARY:DominO-ORB
DESCRIPTION:Master Open: Pool A
LOCATION:  8
DTSTART;TZID=America/Santo_Domingo:20251204T134000
DURATION: P120M
GEO:;
END:VEVENT

BEGIN:VEVENT
SUMMARY:DominO-AFC Carbon
DESCRIPTION:Master Open: Pool A
LOCATION:  9
DTSTART;TZID=America/Santo_Domingo:20251204T161000
DURATION: P120M
GEO:;
END:VEVENT

BEGIN:VEVENT
SUMMARY:NSOM-DominO
DESCRIPTION:Master Open: Pool A
LOCATION:  16
DTSTART;TZID=America/Santo_Domingo:20251205T113000
DURATION: P120M
GEO:;
END:VEVENT

END:VCALENDAR
