BEGIN:VCALENDAR
VERSION:2.0
PRODID: Ultiorganizer


BEGIN:VEVENT
SUMMARY:Warao Ultimate Open-Aguilas
DESCRIPTION:Open: Pool A
LOCATION:  2
DTSTART;TZID=America/Santo_Domingo:20251202T090000
DURATION: P120M
GEO:;
END:VEVENT

BEGIN:VEVENT
SUMMARY:Blue Devils-Aguilas
DESCRIPTION:Open: Pool A
LOCATION:  1
DTSTART;TZID=America/Santo_Domingo:20251202T113000
DURATION: P120M
GEO:;
END:VEVENT

BEGIN:VEVENT
SUMMARY:Houndd-Aguilas
DESCRIPTION:Open: Pool A
LOCATION:  13
DTSTART;TZID=America/Santo_Domingo:20251203T134000
DURATION: P120M
GEO:;
END:VEVENT

BEGIN:VEVENT
SUMMARY:Ottawa Phoenix-Aguilas
DESCRIPTION:Open: Pool A
LOCATION:  12
DTSTART;TZID=America/Santo_Domingo:20251203T161000
DURATION: P120M
GEO:;
END:VEVENT

BEGIN:VEVENT
SUMMARY:Aguilas-Cóndor Ultimate Open
DESCRIPTION:Open: Pool A
LOCATION:  6
DTSTART;TZID=America/Santo_Domingo:20251204T090000
DURATION: P120M
GEO:;
END:VEVENT

BEGIN:VEVENT
SUMMARY:Aguilas-Esparta
DESCRIPTION:Open: Playoff (9-12)
LOCATION:  1
DTSTART;TZID=America/Santo_Domingo:20251205T090000
DURATION: P120M
GEO:;
END:VEVENT

BEGIN:VEVENT
SUMMARY:Aguilas-Ushh Mafia
DESCRIPTION:Open: Playoff (9-12) Finals
LOCATION:  1
DTSTART;TZID=America/Santo_Domingo:20251205T113000
DURATION: P120M
GEO:;
END:VEVENT

END:VCALENDAR
