BEGIN:VCALENDAR
VERSION:2.0
PRODID: Ultiorganizer


BEGIN:VEVENT
SUMMARY:Ottawa Phoenix-Cóndor Ultimate Open
DESCRIPTION:Open: Pool A
LOCATION:  3
DTSTART;TZID=America/Santo_Domingo:20251202T090000
DURATION: P120M
GEO:;
END:VEVENT

BEGIN:VEVENT
SUMMARY:Houndd-Cóndor Ultimate Open
DESCRIPTION:Open: Pool A
LOCATION:  2
DTSTART;TZID=America/Santo_Domingo:20251202T113000
DURATION: P120M
GEO:;
END:VEVENT

BEGIN:VEVENT
SUMMARY:Warao Ultimate Open-Cóndor Ultimate Open
DESCRIPTION:Open: Pool A
LOCATION:  12
DTSTART;TZID=America/Santo_Domingo:20251203T134000
DURATION: P120M
GEO:;
END:VEVENT

BEGIN:VEVENT
SUMMARY:Blue Devils-Cóndor Ultimate Open
DESCRIPTION:Open: Pool A
LOCATION:  11
DTSTART;TZID=America/Santo_Domingo:20251203T161000
DURATION: P120M
GEO:;
END:VEVENT

BEGIN:VEVENT
SUMMARY:Aguilas-Cóndor Ultimate Open
DESCRIPTION:Open: Pool A
LOCATION:  6
DTSTART;TZID=America/Santo_Domingo:20251204T090000
DURATION: P120M
GEO:;
END:VEVENT

BEGIN:VEVENT
SUMMARY:Ushh Mafia-Cóndor Ultimate Open
DESCRIPTION:Open: Playoff (9-12)
LOCATION:  2
DTSTART;TZID=America/Santo_Domingo:20251205T090000
DURATION: P120M
GEO:;
END:VEVENT

BEGIN:VEVENT
SUMMARY:Esparta-Cóndor Ultimate Open
DESCRIPTION:Open: Playoff (9-12) Finals
LOCATION:  2
DTSTART;TZID=America/Santo_Domingo:20251205T113000
DURATION: P120M
GEO:;
END:VEVENT

END:VCALENDAR
