BEGIN:VCALENDAR
VERSION:2.0
PRODID: Ultiorganizer


BEGIN:VEVENT
SUMMARY:Qold-Candela
DESCRIPTION:Master Mixed: Pool B
LOCATION:  16
DTSTART;TZID=America/Santo_Domingo:20251202T134000
DURATION: P120M
GEO:;
END:VEVENT

BEGIN:VEVENT
SUMMARY:Halal-Candela
DESCRIPTION:Master Mixed: Pool B
LOCATION:  16
DTSTART;TZID=America/Santo_Domingo:20251202T161000
DURATION: P120M
GEO:;
END:VEVENT

BEGIN:VEVENT
SUMMARY:Dinner At 4-Candela
DESCRIPTION:Master Mixed: Pool B
LOCATION:  8
DTSTART;TZID=America/Santo_Domingo:20251203T134000
DURATION: P120M
GEO:;
END:VEVENT

BEGIN:VEVENT
SUMMARY:Voltaje-Candela
DESCRIPTION:Master Mixed: Pool B
LOCATION:  9
DTSTART;TZID=America/Santo_Domingo:20251203T161000
DURATION: P120M
GEO:;
END:VEVENT

BEGIN:VEVENT
SUMMARY:Candela-Elder
DESCRIPTION:Master Mixed: Crossover
LOCATION:  9
DTSTART;TZID=America/Santo_Domingo:20251204T090000
DURATION: P120M
GEO:;
END:VEVENT

BEGIN:VEVENT
SUMMARY:Brunch Club-Candela
DESCRIPTION:Master Mixed: Playoff (1-8)
LOCATION:  6
DTSTART;TZID=America/Santo_Domingo:20251204T113000
DURATION: P120M
GEO:;
END:VEVENT

BEGIN:VEVENT
SUMMARY:Candela-Ysanga
DESCRIPTION:Master Mixed: Playoff (1-8) Semifinals
LOCATION:  13
DTSTART;TZID=America/Santo_Domingo:20251205T134000
DURATION: P120M
GEO:;
END:VEVENT

BEGIN:VEVENT
SUMMARY:Candela-Mamba
DESCRIPTION:Master Mixed: Playoff (1-8) Finals
LOCATION:  14
DTSTART;TZID=America/Santo_Domingo:20251205T161000
DURATION: P120M
GEO:;
END:VEVENT

END:VCALENDAR
