BEGIN:VCALENDAR
VERSION:2.0
PRODID: Ultiorganizer


BEGIN:VEVENT
SUMMARY:Evolution-ClubM - Manic
DESCRIPTION:Open: Pool B
LOCATION:  1
DTSTART;TZID=America/Santo_Domingo:20251202T134000
DURATION: P120M
GEO:;
END:VEVENT

BEGIN:VEVENT
SUMMARY:ClubM - Manic-Esparta
DESCRIPTION:Open: Pool B
LOCATION:  2
DTSTART;TZID=America/Santo_Domingo:20251202T161000
DURATION: P120M
GEO:;
END:VEVENT

BEGIN:VEVENT
SUMMARY:ClubM - Manic-Ushh Mafia
DESCRIPTION:Open: Pool B
LOCATION:  13
DTSTART;TZID=America/Santo_Domingo:20251203T090000
DURATION: P120M
GEO:;
END:VEVENT

BEGIN:VEVENT
SUMMARY:Halifax Red Circus-ClubM - Manic
DESCRIPTION:Open: Pool B
LOCATION:  13
DTSTART;TZID=America/Santo_Domingo:20251203T113000
DURATION: P120M
GEO:;
END:VEVENT

BEGIN:VEVENT
SUMMARY:Mamoots-ClubM - Manic
DESCRIPTION:Open: Pool B
LOCATION:  2
DTSTART;TZID=America/Santo_Domingo:20251204T090000
DURATION: P120M
GEO:;
END:VEVENT

BEGIN:VEVENT
SUMMARY:Blue Devils-ClubM - Manic
DESCRIPTION:Open: Playoff (1-8)
LOCATION:  1
DTSTART;TZID=America/Santo_Domingo:20251204T113000
DURATION: P120M
GEO:;
END:VEVENT

BEGIN:VEVENT
SUMMARY:ClubM - Manic-Warao Ultimate Open
DESCRIPTION:Open: Playoff (1-8) Semifinals
LOCATION:  14
DTSTART;TZID=America/Santo_Domingo:20251205T090000
DURATION: P120M
GEO:;
END:VEVENT

BEGIN:VEVENT
SUMMARY:ClubM - Manic-Houndd
DESCRIPTION:Open: Playoff (1-8) Finals
LOCATION:  15
DTSTART;TZID=America/Santo_Domingo:20251205T113000
DURATION: P120M
GEO:;
END:VEVENT

END:VCALENDAR
