BEGIN:VCALENDAR
VERSION:2.0
PRODID: Ultiorganizer


BEGIN:VEVENT
SUMMARY:QUB-Fieras
DESCRIPTION:Women's: Pool B
LOCATION:  13
DTSTART;TZID=America/Santo_Domingo:20251202T134000
DURATION: P120M
GEO:;
END:VEVENT

BEGIN:VEVENT
SUMMARY:Fuerza Natural-Fieras
DESCRIPTION:Women's: Pool B
LOCATION:  13
DTSTART;TZID=America/Santo_Domingo:20251202T161000
DURATION: P120M
GEO:;
END:VEVENT

BEGIN:VEVENT
SUMMARY:Fieras-Siege
DESCRIPTION:Women's: Pool B
LOCATION:  16
DTSTART;TZID=America/Santo_Domingo:20251203T090000
DURATION: P120M
GEO:;
END:VEVENT

BEGIN:VEVENT
SUMMARY:Spanglish-Fieras
DESCRIPTION:Women's: Pool B
LOCATION:  16
DTSTART;TZID=America/Santo_Domingo:20251203T113000
DURATION: P120M
GEO:;
END:VEVENT

BEGIN:VEVENT
SUMMARY:Revolution-Fieras
DESCRIPTION:Women's: Pool B
LOCATION:  14
DTSTART;TZID=America/Santo_Domingo:20251204T134000
DURATION: P120M
GEO:;
END:VEVENT

BEGIN:VEVENT
SUMMARY:Sage-Fieras
DESCRIPTION:Women's: Pool B
LOCATION:  14
DTSTART;TZID=America/Santo_Domingo:20251204T161000
DURATION: P120M
GEO:;
END:VEVENT

BEGIN:VEVENT
SUMMARY:ClubM - Momentum-Fieras
DESCRIPTION:Women's: Playoff (9-10)
LOCATION:  5
DTSTART;TZID=America/Santo_Domingo:20251205T134000
DURATION: P120M
GEO:;
END:VEVENT

END:VCALENDAR
