BEGIN:VCALENDAR
VERSION:2.0
PRODID: Ultiorganizer


BEGIN:VEVENT
SUMMARY:Aloha-Charrúa
DESCRIPTION:Mixed: Pool A
LOCATION:  12
DTSTART;TZID=America/Santo_Domingo:20251202T090000
DURATION: P120M
GEO:;
END:VEVENT

BEGIN:VEVENT
SUMMARY:Quest-Charrúa
DESCRIPTION:Mixed: Pool A
LOCATION:  12
DTSTART;TZID=America/Santo_Domingo:20251202T113000
DURATION: P120M
GEO:;
END:VEVENT

BEGIN:VEVENT
SUMMARY:Mile High Trash-Charrúa
DESCRIPTION:Mixed: Pool A
LOCATION:  1
DTSTART;TZID=America/Santo_Domingo:20251203T113000
DURATION: P120M
GEO:;
END:VEVENT

BEGIN:VEVENT
SUMMARY:Harfang-Charrúa
DESCRIPTION:Mixed: Playoff (1-16)
LOCATION:  4
DTSTART;TZID=America/Santo_Domingo:20251203T161000
DURATION: P120M
GEO:;
END:VEVENT

BEGIN:VEVENT
SUMMARY:Voltaje-Charrúa
DESCRIPTION:Mixed: Playoff (1-16) Quarterfinals
LOCATION:  13
DTSTART;TZID=America/Santo_Domingo:20251204T090000
DURATION: P120M
GEO:;
END:VEVENT

BEGIN:VEVENT
SUMMARY:Malaki UFC-Charrúa
DESCRIPTION:Mixed: Playoff (1-16) Semifinals
LOCATION:  14
DTSTART;TZID=America/Santo_Domingo:20251204T113000
DURATION: P120M
GEO:;
END:VEVENT

BEGIN:VEVENT
SUMMARY:Aloha-Charrúa
DESCRIPTION:Mixed: Playoff (1-16) Finals
LOCATION:  12
DTSTART;TZID=America/Santo_Domingo:20251205T113000
DURATION: P120M
GEO:;
END:VEVENT

END:VCALENDAR
