BEGIN:VCALENDAR
VERSION:2.0
PRODID: Ultiorganizer


BEGIN:VEVENT
SUMMARY:Fuerza Natural-Siege
DESCRIPTION:Women's: Pool B
LOCATION:  12
DTSTART;TZID=America/Santo_Domingo:20251202T134000
DURATION: P120M
GEO:;
END:VEVENT

BEGIN:VEVENT
SUMMARY:Revolution-Siege
DESCRIPTION:Women's: Pool B
LOCATION:  14
DTSTART;TZID=America/Santo_Domingo:20251202T161000
DURATION: P120M
GEO:;
END:VEVENT

BEGIN:VEVENT
SUMMARY:Fieras-Siege
DESCRIPTION:Women's: Pool B
LOCATION:  16
DTSTART;TZID=America/Santo_Domingo:20251203T090000
DURATION: P120M
GEO:;
END:VEVENT

BEGIN:VEVENT
SUMMARY:Sage-Siege
DESCRIPTION:Women's: Pool B
LOCATION:  15
DTSTART;TZID=America/Santo_Domingo:20251203T113000
DURATION: P120M
GEO:;
END:VEVENT

BEGIN:VEVENT
SUMMARY:Spanglish-Siege
DESCRIPTION:Women's: Pool B
LOCATION:  15
DTSTART;TZID=America/Santo_Domingo:20251204T111500
DURATION: P120M
GEO:;
END:VEVENT

BEGIN:VEVENT
SUMMARY:QUB-Siege
DESCRIPTION:Women's: Pool B
LOCATION:  15
DTSTART;TZID=America/Santo_Domingo:20251204T161000
DURATION: P120M
GEO:;
END:VEVENT

BEGIN:VEVENT
SUMMARY:Venado Azul-Siege
DESCRIPTION:Women's: Playoff (1-8)
LOCATION:  4
DTSTART;TZID=America/Santo_Domingo:20251205T090000
DURATION: P120M
GEO:;
END:VEVENT

BEGIN:VEVENT
SUMMARY:Siege-Cóndor Ultimate Women's
DESCRIPTION:Women's: Playoff (1-8) Semifinals
LOCATION:  6
DTSTART;TZID=America/Santo_Domingo:20251205T113000
DURATION: P120M
GEO:;
END:VEVENT

BEGIN:VEVENT
SUMMARY:Sage-Siege
DESCRIPTION:Women's: Playoff (1-8) Finals
LOCATION:  5
DTSTART;TZID=America/Santo_Domingo:20251206T093000
DURATION: P120M
GEO:;
END:VEVENT

END:VCALENDAR
