BEGIN:VCALENDAR
VERSION:2.0
PRODID: Ultiorganizer


BEGIN:VEVENT
SUMMARY:Mile High Trash-Quest
DESCRIPTION:Mixed: Pool A
LOCATION:  11
DTSTART;TZID=America/Santo_Domingo:20251202T090000
DURATION: P120M
GEO:;
END:VEVENT

BEGIN:VEVENT
SUMMARY:Mile High Trash-Aloha
DESCRIPTION:Mixed: Pool A
LOCATION:  11
DTSTART;TZID=America/Santo_Domingo:20251202T113000
DURATION: P120M
GEO:;
END:VEVENT

BEGIN:VEVENT
SUMMARY:Mile High Trash-Charrúa
DESCRIPTION:Mixed: Pool A
LOCATION:  1
DTSTART;TZID=America/Santo_Domingo:20251203T113000
DURATION: P120M
GEO:;
END:VEVENT

BEGIN:VEVENT
SUMMARY:Mile High Trash-Hammers Ultimate Buenos Aires
DESCRIPTION:Mixed: Playoff (1-16)
LOCATION:  1
DTSTART;TZID=America/Santo_Domingo:20251203T141000
DURATION: P120M
GEO:;
END:VEVENT

BEGIN:VEVENT
SUMMARY:Mile High Trash-Kalagend
DESCRIPTION:Mixed: Playoff (1-16) Quarterfinals
LOCATION:  1
DTSTART;TZID=America/Santo_Domingo:20251204T134000
DURATION: P120M
GEO:;
END:VEVENT

BEGIN:VEVENT
SUMMARY:Mile High Trash-Meclaó
DESCRIPTION:Mixed: Playoff (1-16) Semifinals
LOCATION:  3
DTSTART;TZID=America/Santo_Domingo:20251205T134000
DURATION: P120M
GEO:;
END:VEVENT

BEGIN:VEVENT
SUMMARY:Mile High Trash-tobe!
DESCRIPTION:Mixed: Playoff (1-16) Finals
LOCATION:  4
DTSTART;TZID=America/Santo_Domingo:20251206T153000
DURATION: P120M
GEO:;
END:VEVENT

END:VCALENDAR
