BEGIN:VCALENDAR
VERSION:2.0
PRODID: Ultiorganizer


BEGIN:VEVENT
SUMMARY:Gravy Train-NSOM
DESCRIPTION:Master Open: Pool A
LOCATION:  16
DTSTART;TZID=America/Santo_Domingo:20251202T090000
DURATION: P120M
GEO:;
END:VEVENT

BEGIN:VEVENT
SUMMARY:Surly-Gravy Train
DESCRIPTION:Master Open: Pool A
LOCATION:  16
DTSTART;TZID=America/Santo_Domingo:20251202T113000
DURATION: P120M
GEO:;
END:VEVENT

BEGIN:VEVENT
SUMMARY:Gravy Train-Makawua
DESCRIPTION:Master Open: Pool A
LOCATION:  7
DTSTART;TZID=America/Santo_Domingo:20251203T090000
DURATION: P120M
GEO:;
END:VEVENT

BEGIN:VEVENT
SUMMARY:Gravy Train-DominO
DESCRIPTION:Master Open: Pool A
LOCATION:  6
DTSTART;TZID=America/Santo_Domingo:20251203T113000
DURATION: P120M
GEO:;
END:VEVENT

BEGIN:VEVENT
SUMMARY:Dead Circus-Gravy Train
DESCRIPTION:Master Open: Pool A
LOCATION:  5
DTSTART;TZID=America/Santo_Domingo:20251204T134000
DURATION: P120M
GEO:;
END:VEVENT

BEGIN:VEVENT
SUMMARY:Gravy Train-ORB
DESCRIPTION:Master Open: Pool A
LOCATION:  6
DTSTART;TZID=America/Santo_Domingo:20251204T161000
DURATION: P120M
GEO:;
END:VEVENT

BEGIN:VEVENT
SUMMARY:Gravy Train-AFC Carbon
DESCRIPTION:Master Open: Pool A
LOCATION:  13
DTSTART;TZID=America/Santo_Domingo:20251205T113000
DURATION: P120M
GEO:;
END:VEVENT

END:VCALENDAR
