BEGIN:VCALENDAR
VERSION:2.0
PRODID: Ultiorganizer


BEGIN:VEVENT
SUMMARY:Sage-Spanglish
DESCRIPTION:Women's: Pool B
LOCATION:  14
DTSTART;TZID=America/Santo_Domingo:20251202T134000
DURATION: P120M
GEO:;
END:VEVENT

BEGIN:VEVENT
SUMMARY:QUB-Spanglish
DESCRIPTION:Women's: Pool B
LOCATION:  12
DTSTART;TZID=America/Santo_Domingo:20251202T161000
DURATION: P120M
GEO:;
END:VEVENT

BEGIN:VEVENT
SUMMARY:Revolution-Spanglish
DESCRIPTION:Women's: Pool B
LOCATION:  15
DTSTART;TZID=America/Santo_Domingo:20251203T090000
DURATION: P120M
GEO:;
END:VEVENT

BEGIN:VEVENT
SUMMARY:Spanglish-Fieras
DESCRIPTION:Women's: Pool B
LOCATION:  16
DTSTART;TZID=America/Santo_Domingo:20251203T113000
DURATION: P120M
GEO:;
END:VEVENT

BEGIN:VEVENT
SUMMARY:Spanglish-Siege
DESCRIPTION:Women's: Pool B
LOCATION:  15
DTSTART;TZID=America/Santo_Domingo:20251204T111500
DURATION: P120M
GEO:;
END:VEVENT

BEGIN:VEVENT
SUMMARY:Fuerza Natural-Spanglish
DESCRIPTION:Women's: Pool B
LOCATION:  15
DTSTART;TZID=America/Santo_Domingo:20251204T134000
DURATION: P120M
GEO:;
END:VEVENT

BEGIN:VEVENT
SUMMARY:Soul Lyons-Spanglish
DESCRIPTION:Women's: Pool C (11-13)
LOCATION:  6
DTSTART;TZID=America/Santo_Domingo:20251205T161000
DURATION: P120M
GEO:;
END:VEVENT

END:VCALENDAR
