BEGIN:VCALENDAR
VERSION:2.0
PRODID: Ultiorganizer


BEGIN:VEVENT
SUMMARY:Revolution-Sage
DESCRIPTION:Women's: Pool B
LOCATION:  4
DTSTART;TZID=America/Santo_Domingo:20251201T151500
DURATION: P120M
GEO:;
END:VEVENT

BEGIN:VEVENT
SUMMARY:Sage-Spanglish
DESCRIPTION:Women's: Pool B
LOCATION:  14
DTSTART;TZID=America/Santo_Domingo:20251202T134000
DURATION: P120M
GEO:;
END:VEVENT

BEGIN:VEVENT
SUMMARY:Fuerza Natural-Sage
DESCRIPTION:Women's: Pool B
LOCATION:  14
DTSTART;TZID=America/Santo_Domingo:20251203T090000
DURATION: P120M
GEO:;
END:VEVENT

BEGIN:VEVENT
SUMMARY:Sage-Siege
DESCRIPTION:Women's: Pool B
LOCATION:  15
DTSTART;TZID=America/Santo_Domingo:20251203T113000
DURATION: P120M
GEO:;
END:VEVENT

BEGIN:VEVENT
SUMMARY:QUB-Sage
DESCRIPTION:Women's: Pool B
LOCATION:  16
DTSTART;TZID=America/Santo_Domingo:20251204T134000
DURATION: P120M
GEO:;
END:VEVENT

BEGIN:VEVENT
SUMMARY:Sage-Fieras
DESCRIPTION:Women's: Pool B
LOCATION:  14
DTSTART;TZID=America/Santo_Domingo:20251204T161000
DURATION: P120M
GEO:;
END:VEVENT

BEGIN:VEVENT
SUMMARY:Macana-Sage
DESCRIPTION:Women's: Playoff (1-8)
LOCATION:  3
DTSTART;TZID=America/Santo_Domingo:20251205T090000
DURATION: P120M
GEO:;
END:VEVENT

BEGIN:VEVENT
SUMMARY:Sage-Salty
DESCRIPTION:Women's: Playoff (1-8) Semifinals
LOCATION:  5
DTSTART;TZID=America/Santo_Domingo:20251205T113000
DURATION: P120M
GEO:;
END:VEVENT

BEGIN:VEVENT
SUMMARY:Sage-Siege
DESCRIPTION:Women's: Playoff (1-8) Finals
LOCATION:  5
DTSTART;TZID=America/Santo_Domingo:20251206T093000
DURATION: P120M
GEO:;
END:VEVENT

END:VCALENDAR
